BEGIN:VCALENDAR
VERSION:2.0
PRODID:-//North Sound Youth Symphony - ECPv6.15.17.1//NONSGML v1.0//EN
CALSCALE:GREGORIAN
METHOD:PUBLISH
X-WR-CALNAME:North Sound Youth Symphony
X-ORIGINAL-URL:https://www.northsoundyouthsymphony.org
X-WR-CALDESC:Events for North Sound Youth Symphony
REFRESH-INTERVAL;VALUE=DURATION:PT1H
X-Robots-Tag:noindex
X-PUBLISHED-TTL:PT1H
BEGIN:VTIMEZONE
TZID:UTC
BEGIN:STANDARD
TZOFFSETFROM:+0000
TZOFFSETTO:+0000
TZNAME:UTC
DTSTART:20220101T000000
END:STANDARD
END:VTIMEZONE
BEGIN:VEVENT
DTSTART;TZID=UTC:20231002T181500
DTEND;TZID=UTC:20231002T201500
DTSTAMP:20260425T065634
CREATED:20231002T063539Z
LAST-MODIFIED:20231002T073726Z
UID:3107-1696270500-1696277700@www.northsoundyouthsymphony.org
SUMMARY:Rehearsal & Pizza Night
DESCRIPTION:Pizza Night and Rehearsal 6:15pm – 8:15pm \nWWU Performing Arts Center LL2
URL:https://www.northsoundyouthsymphony.org/event/rehearsal/
LOCATION:Performing Arts Center\, 516 High St\, Bellingham\, WA 98225
CATEGORIES:Pizza Night,Rehearsal
END:VEVENT
END:VCALENDAR